BYTEORDER      M
LAYOUT         BIL
NROWS          3600
NCOLS          7200
NBANDS         1
NBITS          16
BANDROWBYTES   14400
TOTALROWBYTES  14400
BANDGAPBYTES   0
NODATA         -9999
ULXMAP         0.00416666666667
ULYMAP         -60.00416666666667
XDIM           0.00833333333333
YDIM           0.00833333333333
