BYTEORDER      M
LAYOUT         BIL
NROWS          6000
NCOLS          4800
NBANDS         1
NBITS          16
BANDROWBYTES   9600
TOTALROWBYTES  9600
BANDGAPBYTES   0
NODATA         -9999
ULXMAP         100.00416666666666
ULYMAP         -10.00416666666667
XDIM           0.00833333333333
YDIM           0.00833333333333
