BYTEORDER      M
LAYOUT         BIL
NROWS          6000
NCOLS          4800
NBANDS         1
NBITS          16
BANDROWBYTES   9600
TOTALROWBYTES  9600
BANDGAPBYTES   0
NODATA         -9999
ULXMAP         60.00416666666667
ULYMAP         89.99583333333334
XDIM           0.00833333333333
YDIM           0.00833333333333
