BYTEORDER      M
LAYOUT         BIL
NROWS          5400
NCOLS          5400
NBANDS         1
NBITS          16
BANDROWBYTES   10800
TOTALROWBYTES  10800
BANDGAPBYTES   0
NODATA         -9999
ULXMAP         -2700000.00000000000000
ULYMAP         2699000.00000000000000
XDIM           1000.00000000000000
YDIM           1000.00000000000000
